BEGIN:VCALENDAR
VERSION:2.0
PRODID:-//BizTech - ECPv6.10.1.1//NONSGML v1.0//EN
CALSCALE:GREGORIAN
METHOD:PUBLISH
X-ORIGINAL-URL:https://biztech.pl
X-WR-CALDESC:Wydarzenia dla BizTech
REFRESH-INTERVAL;VALUE=DURATION:PT1H
X-Robots-Tag:noindex
X-PUBLISHED-TTL:PT1H
BEGIN:VTIMEZONE
TZID:Europe/Helsinki
BEGIN:DAYLIGHT
TZOFFSETFROM:+0200
TZOFFSETTO:+0300
TZNAME:EEST
DTSTART:20250330T010000
END:DAYLIGHT
BEGIN:STANDARD
TZOFFSETFROM:+0300
TZOFFSETTO:+0200
TZNAME:EET
DTSTART:20251026T010000
END:STANDARD
END:VTIMEZONE
BEGIN:VEVENT
DTSTART;TZID=Europe/Helsinki:20250227T090000
DTEND;TZID=Europe/Helsinki:20250228T170000
DTSTAMP:20260424T143449
CREATED:20241220T082615Z
LAST-MODIFIED:20250128T100344Z
UID:8551-1740646800-1740762000@biztech.pl
SUMMARY:Power Query
DESCRIPTION:Cena za osobę zdalnie 980 PLN\nCena za osobę stacjonarnie 2150 PLN
URL:https://biztech.pl/event/power-query-6/
END:VEVENT
BEGIN:VEVENT
DTSTART;TZID=Europe/Helsinki:20250227T090000
DTEND;TZID=Europe/Helsinki:20250228T170000
DTSTAMP:20260424T143449
CREATED:20241220T095013Z
LAST-MODIFIED:20250128T111333Z
UID:8602-1740646800-1740762000@biztech.pl
SUMMARY:Microsoft Access - Podstawy programowania VBA
DESCRIPTION:Cena za osobę zdalnie 1150 PLN\nCena za osobę stacjonarnie 2300 PLN
URL:https://biztech.pl/event/microsoft-access-podstawy-programowania-vba-12/
END:VEVENT
BEGIN:VEVENT
DTSTART;TZID=Europe/Helsinki:20250227T090000
DTEND;TZID=Europe/Helsinki:20250228T170000
DTSTAMP:20260424T143449
CREATED:20241220T095238Z
LAST-MODIFIED:20250128T111300Z
UID:8606-1740646800-1740762000@biztech.pl
SUMMARY:Microsoft Access - Zaawansowane programowanie VBA
DESCRIPTION:Cena za osobę zdalnie 1150 PLN\nCena za osobę stacjonarnie 2300 PLN
URL:https://biztech.pl/event/microsoft-access-zaawansowane-programowanie-vba-12/
END:VEVENT
END:VCALENDAR