BEGIN:VCALENDAR
VERSION:2.0
PRODID:-//BizTech - ECPv6.10.1.1//NONSGML v1.0//EN
CALSCALE:GREGORIAN
METHOD:PUBLISH
X-ORIGINAL-URL:https://biztech.pl
X-WR-CALDESC:Wydarzenia dla BizTech
REFRESH-INTERVAL;VALUE=DURATION:PT1H
X-Robots-Tag:noindex
X-PUBLISHED-TTL:PT1H
BEGIN:VTIMEZONE
TZID:Europe/Helsinki
BEGIN:DAYLIGHT
TZOFFSETFROM:+0200
TZOFFSETTO:+0300
TZNAME:EEST
DTSTART:20250330T010000
END:DAYLIGHT
BEGIN:STANDARD
TZOFFSETFROM:+0300
TZOFFSETTO:+0200
TZNAME:EET
DTSTART:20251026T010000
END:STANDARD
END:VTIMEZONE
BEGIN:VEVENT
DTSTART;TZID=Europe/Helsinki:20250303T090000
DTEND;TZID=Europe/Helsinki:20250304T170000
DTSTAMP:20260424T184216
CREATED:20250220T113406Z
LAST-MODIFIED:20250220T113406Z
UID:9187-1740992400-1741107600@biztech.pl
SUMMARY:Power Query
DESCRIPTION:Cena za osobę zdalnie 990 PLN\nCena za osobę stacjonarnie 2150 PLN
URL:https://biztech.pl/event/power-query-7/
END:VEVENT
BEGIN:VEVENT
DTSTART;TZID=Europe/Helsinki:20250303T090000
DTEND;TZID=Europe/Helsinki:20250304T170000
DTSTAMP:20260424T184216
CREATED:20250220T145812Z
LAST-MODIFIED:20250220T145812Z
UID:9227-1740992400-1741107600@biztech.pl
SUMMARY:Microsoft Excel - Zaawansowane programowanie VBA
DESCRIPTION:Cena za osobę zdalnie 1150 PLN\nCena za osobę stacjonarnie 2300 PLN
URL:https://biztech.pl/event/microsoft-excel-zaawansowane-programowanie-vba-13/
END:VEVENT
BEGIN:VEVENT
DTSTART;TZID=Europe/Helsinki:20250304T080000
DTEND;TZID=Europe/Helsinki:20250305T170000
DTSTAMP:20260424T184216
CREATED:20250220T102320Z
LAST-MODIFIED:20250220T102320Z
UID:9131-1741075200-1741194000@biztech.pl
SUMMARY:Microsoft Word Średniozaawansowany
DESCRIPTION:Cena za osobę zdalnie 630 PLN\nCena za osobę stacjonarnie 1450 PLN
URL:https://biztech.pl/event/microsoft-word-sredniozaawansowany-15/
END:VEVENT
END:VCALENDAR