BEGIN:VCALENDAR
VERSION:2.0
PRODID:-//BizTech - ECPv6.10.1.1//NONSGML v1.0//EN
CALSCALE:GREGORIAN
METHOD:PUBLISH
X-ORIGINAL-URL:https://biztech.pl
X-WR-CALDESC:Wydarzenia dla BizTech
REFRESH-INTERVAL;VALUE=DURATION:PT1H
X-Robots-Tag:noindex
X-PUBLISHED-TTL:PT1H
BEGIN:VTIMEZONE
TZID:Europe/Helsinki
BEGIN:DAYLIGHT
TZOFFSETFROM:+0200
TZOFFSETTO:+0300
TZNAME:EEST
DTSTART:20250330T010000
END:DAYLIGHT
BEGIN:STANDARD
TZOFFSETFROM:+0300
TZOFFSETTO:+0200
TZNAME:EET
DTSTART:20251026T010000
END:STANDARD
END:VTIMEZONE
BEGIN:VEVENT
DTSTART;TZID=Europe/Helsinki:20250312T090000
DTEND;TZID=Europe/Helsinki:20250313T170000
DTSTAMP:20260425T053822
CREATED:20250220T103725Z
LAST-MODIFIED:20250220T103725Z
UID:9139-1741770000-1741885200@biztech.pl
SUMMARY:Microsoft Excel Średniozaawansowany
DESCRIPTION:Cena za osobę zdalnie 630 PLN\nCena za osobę stacjonarnie 1450 PLN
URL:https://biztech.pl/event/microsoft-excel-sredniozaawansowany-15/
END:VEVENT
BEGIN:VEVENT
DTSTART;TZID=Europe/Helsinki:20250312T090000
DTEND;TZID=Europe/Helsinki:20250313T170000
DTSTAMP:20260425T053822
CREATED:20250220T120327Z
LAST-MODIFIED:20250220T120327Z
UID:9201-1741770000-1741885200@biztech.pl
SUMMARY:Microsoft Access Podstawowy  Użytkowanie baz danych
DESCRIPTION:Cena za osobę zdalnie 630 PLN\nCena za osobę stacjonarnie 1450 PLN
URL:https://biztech.pl/event/microsoft-access-podstawowy-uzytkowanie-baz-danych-14/
END:VEVENT
BEGIN:VEVENT
DTSTART;TZID=Europe/Helsinki:20250312T090000
DTEND;TZID=Europe/Helsinki:20250313T170000
DTSTAMP:20260425T053822
CREATED:20250220T150541Z
LAST-MODIFIED:20250220T150541Z
UID:9240-1741770000-1741885200@biztech.pl
SUMMARY:Microsoft Office - Zaawansowane techniki programowania VBA
DESCRIPTION:Cena za osobę zdalnie 1150 PLN\nCena za osobę stacjonarnie 2300 PLN
URL:https://biztech.pl/event/microsoft-office-zaawansowane-techniki-programowania-vba-14/
END:VEVENT
END:VCALENDAR