BEGIN:VCALENDAR
VERSION:2.0
PRODID:-//BizTech - ECPv6.10.1.1//NONSGML v1.0//EN
CALSCALE:GREGORIAN
METHOD:PUBLISH
X-ORIGINAL-URL:https://biztech.pl
X-WR-CALDESC:Wydarzenia dla BizTech
REFRESH-INTERVAL;VALUE=DURATION:PT1H
X-Robots-Tag:noindex
X-PUBLISHED-TTL:PT1H
BEGIN:VTIMEZONE
TZID:Europe/Helsinki
BEGIN:DAYLIGHT
TZOFFSETFROM:+0200
TZOFFSETTO:+0300
TZNAME:EEST
DTSTART:20250330T010000
END:DAYLIGHT
BEGIN:STANDARD
TZOFFSETFROM:+0300
TZOFFSETTO:+0200
TZNAME:EET
DTSTART:20251026T010000
END:STANDARD
END:VTIMEZONE
BEGIN:VEVENT
DTSTART;TZID=Europe/Helsinki:20250401T090000
DTEND;TZID=Europe/Helsinki:20250402T170000
DTSTAMP:20260426T035059
CREATED:20250220T120017Z
LAST-MODIFIED:20250220T120017Z
UID:9200-1743498000-1743613200@biztech.pl
SUMMARY:Tworzenie dashboardów w Microsoft Excel
DESCRIPTION:Cena za osobę zdalnie 490 PLN\nCena za osobę stacjonarnie 2150 PLN
URL:https://biztech.pl/event/tworzenie-dashboardow-w-microsoft-excel-14/
END:VEVENT
BEGIN:VEVENT
DTSTART;TZID=Europe/Helsinki:20250402T090000
DTEND;TZID=Europe/Helsinki:20250402T170000
DTSTAMP:20260426T035059
CREATED:20250220T151533Z
LAST-MODIFIED:20250220T151533Z
UID:9257-1743584400-1743613200@biztech.pl
SUMMARY:Microsoft Outlook - Zarządzanie czasem
DESCRIPTION:Cena za osobę zdalnie 450 PLN\nCena za osobę stacjonarni 910 PLN
URL:https://biztech.pl/event/microsoft-outlook-zarzadzanie-czasem-12/
END:VEVENT
BEGIN:VEVENT
DTSTART;TZID=Europe/Helsinki:20250402T090000
DTEND;TZID=Europe/Helsinki:20250403T170000
DTSTAMP:20260426T035059
CREATED:20250220T105512Z
LAST-MODIFIED:20250220T152919Z
UID:9152-1743584400-1743699600@biztech.pl
SUMMARY:Microsoft Word Średniozaawansowany
DESCRIPTION:Cena za osobę zdalnie 630 PLN\nCena za osobę stacjonarnie 1450 PLN
URL:https://biztech.pl/event/microsoft-word-sredniozaawansowany-16/
END:VEVENT
END:VCALENDAR