BEGIN:VCALENDAR
VERSION:2.0
PRODID:-//BizTech - ECPv6.10.1.1//NONSGML v1.0//EN
CALSCALE:GREGORIAN
METHOD:PUBLISH
X-WR-CALNAME:BizTech
X-ORIGINAL-URL:https://biztech.pl
X-WR-CALDESC:Wydarzenia dla BizTech
REFRESH-INTERVAL;VALUE=DURATION:PT1H
X-Robots-Tag:noindex
X-PUBLISHED-TTL:PT1H
BEGIN:VTIMEZONE
TZID:Europe/Helsinki
BEGIN:DAYLIGHT
TZOFFSETFROM:+0200
TZOFFSETTO:+0300
TZNAME:EEST
DTSTART:20250330T010000
END:DAYLIGHT
BEGIN:STANDARD
TZOFFSETFROM:+0300
TZOFFSETTO:+0200
TZNAME:EET
DTSTART:20251026T010000
END:STANDARD
END:VTIMEZONE
BEGIN:VEVENT
DTSTART;TZID=Europe/Helsinki:20250403T090000
DTEND;TZID=Europe/Helsinki:20250404T170000
DTSTAMP:20260426T061744
CREATED:20250220T120323Z
LAST-MODIFIED:20250220T120323Z
UID:9202-1743670800-1743786000@biztech.pl
SUMMARY:Microsoft Access Podstawowy  Użytkowanie baz danych
DESCRIPTION:Cena za osobę zdalnie 630 PLN\nCena za osobę stacjonarnie 1450 PLN
URL:https://biztech.pl/event/microsoft-access-podstawowy-uzytkowanie-baz-danych-13/
END:VEVENT
BEGIN:VEVENT
DTSTART;TZID=Europe/Helsinki:20250403T090000
DTEND;TZID=Europe/Helsinki:20250404T170000
DTSTAMP:20260426T061744
CREATED:20250220T151717Z
LAST-MODIFIED:20250220T151717Z
UID:9253-1743670800-1743786000@biztech.pl
SUMMARY:Microsoft Project Podstawowy
DESCRIPTION:Cena za osobę zdalnie 990 PLN\nCena za osobę stacjonarnie 2150 PLN
URL:https://biztech.pl/event/microsoft-project-podstawowy-14/
END:VEVENT
BEGIN:VEVENT
DTSTART;TZID=Europe/Helsinki:20250404T090000
DTEND;TZID=Europe/Helsinki:20250404T170000
DTSTAMP:20260426T061744
CREATED:20250220T105810Z
LAST-MODIFIED:20250220T105810Z
UID:9154-1743757200-1743786000@biztech.pl
SUMMARY:Microsoft Word - Zarządzanie dużymi dokumentami
DESCRIPTION:Cena za osobę zdalnie 490 PLN\nCena za osobę stacjonarnie 990 PLN
URL:https://biztech.pl/event/microsoft-word-zarzadzanie-duzymi-dokumentami-16/
END:VEVENT
END:VCALENDAR